BEGIN:VCALENDAR
PRODID:-//Mozilla.org/NONSGML Mozilla Calendar V1.1//EN
VERSION:2.0
CALSCALE:GREGORIAN
BEGIN:VEVENT
DTSTAMP:20260423T162246Z
DTSTART:20260427T060000
DTEND:20260427T063000
SUMMARY:2013 FORD ECOSPORT 
LOCATION:http://www.copart.com.br:80
DESCRIPTION:Please join us for the following auction:\n\n2013 FORD ECOSPO
 RT \nwww.copart.com.br\n\n\n\nContact us at member.services@copart.com o
 r (972) 391-5400 if you have any questions leading up to the auction.\n\
 n\n-Your Copart Team
UID:20260423T162246Z-uidGen@lvpbaw212.corp.copart.com
END:VEVENT
END:VCALENDAR
